BEGIN:VCALENDAR
VERSION:2.0
PRODID:spatie/icalendar-generator
DESCRIPTION:Veranstaltungen von Seniorentreff Hansahof - Begegnungsstätte
X-WR-CALDESC:Veranstaltungen von Seniorentreff Hansahof - Begegnungsstätte
REFRESH-INTERVAL;VALUE=DURATION:PT1440M
X-PUBLISHED-TTL:PT1440M
BEGIN:VTIMEZONE
TZID:Europe/Berlin
BEGIN:STANDARD
DTSTART:20251026T030000Z
TZOFFSETFROM:+0200
TZOFFSETTO:+0100
END:STANDARD
BEGIN:DAYLIGHT
DTSTART:20260329T020000Z
TZOFFSETFROM:+0100
TZOFFSETTO:+0200
END:DAYLIGHT
END:VTIMEZONE
BEGIN:VTIMEZONE
TZID:UTC
BEGIN:STANDARD
DTSTART:20250724T090928Z
TZOFFSETFROM:+0000
TZOFFSETTO:+0000
END:STANDARD
END:VTIMEZONE
BEGIN:VEVENT
UID:3-3
DTSTAMP:20260420T090928Z
SUMMARY:Demo für 20.01.
LOCATION:Café Seniorentreff Hansahof Aegidiistraße 67  Münster NRW 48143
ORGANIZER;CN=Jan Steffen:MAILTO:jan@schach-nienberge.de
DTSTART;TZID=Europe/Berlin:20260120T120000
DTEND;TZID=Europe/Berlin:20260120T130000
X-ALT-DESC;FMTTYPE=TEXT/HTML:<p>Dies ist nur ein Test.</p>\n
CATEGORIES:General
URL;VALUE=URI:https://seniorentreff-hansahof.de/veranstaltung/demo-fuer-20-
 01/
METHOD:PUBLISH
END:VEVENT
END:VCALENDAR